BEGIN:VCALENDAR
VERSION:2.0
PRODID:-//ChamberMaster//Event Calendar 2.0//EN
METHOD:PUBLISH
X-PUBLISHED-TTL:P3D
REFRESH-INTERVAL:P3D
CALSCALE:GREGORIAN
BEGIN:VEVENT
DTSTART:20230309T210000Z
DTEND:20230309T220000Z
X-MICROSOFT-CDO-ALLDAYEVENT:FALSE
SUMMARY:Ribbon Cutting - Law Office of Phillip T. Wylkan
DESCRIPTION:Join us on Thursday\, March 9th as we celebrate the Law Office of Phillip T. Wylkan's new office\, 1243 Napoleon St\, Fremont.\n\nThe live ribbon cutting will start promptly at 4 pm.
X-ALT-DESC;FMTTYPE=text/html:<div class="x11i5rnm xat24cr x1mh8g0r x1vvkbs xdj266r" style="margin: 0px\; overflow-wrap: break-word\; font-family: &quot\;Segoe UI Historic&quot\;\, &quot\;Segoe UI&quot\;\, Helvetica\, Arial\, sans-serif\; color: rgb(5\, 5\, 5)\; font-size: 15px\;"><br />\n<span style="font-size:20px\;">Join us on Thursday\, March 9th as we celebrate the Law Office of Phillip T. Wylkan&#39\;s new office\, 1243 Napoleon St\, Fremont.</span></div>\n\n<div class="x11i5rnm xat24cr x1mh8g0r x1vvkbs xtlvy1s" style="margin: 0.5em 0px 0px\; overflow-wrap: break-word\; font-family: &quot\;Segoe UI Historic&quot\;\, &quot\;Segoe UI&quot\;\, Helvetica\, Arial\, sans-serif\; color: rgb(5\, 5\, 5)\; font-size: 15px\;"><span style="font-size:20px\;">The live ribbon cutting will start promptly at 4&nbsp\;pm.&nbsp\;</span></div>\n
LOCATION:1243 Napoleon St. Fremont\, OH 43420
UID:e.2014.3918
SEQUENCE:3
DTSTAMP:20260422T143049Z
URL:https://www.scchamber.org/events/details/ribbon-cutting-law-office-of-phillip-t-wylkan-3918
END:VEVENT

END:VCALENDAR
