BEGIN:VCALENDAR
VERSION:2.0
PRODID:-//ChamberMaster//Event Calendar 2.0//EN
METHOD:PUBLISH
X-PUBLISHED-TTL:P3D
REFRESH-INTERVAL:P3D
CALSCALE:GREGORIAN
BEGIN:VEVENT
DTSTART:20180407T130000Z
DTEND:20180407T160000Z
X-MICROSOFT-CDO-ALLDAYEVENT:FALSE
SUMMARY:Progressive Agriculture Safety Day® 2018
DESCRIPTION:This event is FREE for children ages 8 to 13 in Sandusky County. This is a fun-filled morning of learning about various types of safety on the farm followed by a pizza lunch. Students will receive a t-shirt and take home "goody" bag. Parents are highly encouraged to attend.\n\n\n\n\n\nPre-register your child by sending in the Registration & Consent Form via mail to 215 Croghan Street\, Fremont\, OH 43420\, fax to 419-332-8666 or email to pcoord@scchamber.org.
X-ALT-DESC;FMTTYPE=text/html:This event is FREE for children ages 8 to 13 in Sandusky County. This&nbsp\;is a fun-filled&nbsp\;morning of learning about various types of safety on the farm followed by a pizza lunch. Students will receive a t-shirt and take home &quot\;goody&quot\; bag. Parents are highly encouraged to attend.<br />\n<br />\n<br />\nPre-register your child by sending in the <u><a href="https://chambermaster.blob.core.windows.net/userfiles/UserFiles/chambers/2014/File/2018RegistrationFormwithConsent.pdf">Registration &amp\; Consent Form</a></u> via mail to 215 Croghan Street\, Fremont\, OH 43420\, fax to 419-332-8666 or email to pcoord@scchamber.org.
LOCATION:Vanguard-Sentinel Career and Technology Center 1306 Cedar St. Fremont\, OH 43420
UID:e.2014.793
SEQUENCE:3
DTSTAMP:20260424T030135Z
URL:https://www.scchamber.org/events/details/progressive-agriculture-safety-day-2018-793
END:VEVENT

END:VCALENDAR
