BEGIN:VCALENDAR
VERSION:2.0
PRODID:-//ChamberMaster//Event Calendar 2.0//EN
METHOD:PUBLISH
X-PUBLISHED-TTL:P3D
REFRESH-INTERVAL:P3D
CALSCALE:GREGORIAN
BEGIN:VEVENT
DTSTART:20180215T173000Z
DTEND:20180215T183000Z
X-MICROSOFT-CDO-ALLDAYEVENT:FALSE
SUMMARY:Progressive Ag Safety Day Committee Meeting
DESCRIPTION:Progressive Ag Safety Day Committee Meeting
X-ALT-DESC;FMTTYPE=text/html:Progressive Ag Safety Day Committee Meeting
LOCATION:Chamber of Commerce Conference Room 215 Croghan St. Fremont\, OH 43420
UID:e.2014.910
SEQUENCE:3
DTSTAMP:20260424T054812Z
URL:https://www.scchamber.org/events/details/progressive-ag-safety-day-committee-meeting-02-15-2018-910
END:VEVENT

END:VCALENDAR
