BEGIN:VCALENDAR
VERSION:2.0
PRODID:-//ChamberMaster//Event Calendar 2.0//EN
METHOD:PUBLISH
X-PUBLISHED-TTL:P3D
REFRESH-INTERVAL:P3D
CALSCALE:GREGORIAN
BEGIN:VEVENT
DTSTART:20221003T160000Z
DTEND:20221003T170000Z
X-MICROSOFT-CDO-ALLDAYEVENT:FALSE
SUMMARY:Mastering Monday 2022
DESCRIPTION:
X-ALT-DESC;FMTTYPE=text/html:
LOCATION:The Sandusky County Chamber of Commerce 1245 Napoleon St. Fremont\, OH 43420 Virtual option available via zoom
UID:e.2014.3295
SEQUENCE:3
DTSTAMP:20260420T170449Z
URL:https://www.scchamber.org/events/details/mastering-monday-2022-10-03-2022-3295
END:VEVENT

END:VCALENDAR
