BEGIN:VCALENDAR
VERSION:2.0
PRODID:-//ChamberMaster//Event Calendar 2.0//EN
METHOD:PUBLISH
X-PUBLISHED-TTL:P3D
REFRESH-INTERVAL:P3D
CALSCALE:GREGORIAN
BEGIN:VEVENT
DTSTART:20171003T120000Z
DTEND:20171003T130000Z
X-MICROSOFT-CDO-ALLDAYEVENT:FALSE
SUMMARY:Legislative Committee
DESCRIPTION:
X-ALT-DESC;FMTTYPE=text/html:
LOCATION:Chamber of Commerce building
UID:e.2014.705
SEQUENCE:3
DTSTAMP:20260424T115315Z
URL:https://www.scchamber.org/events/details/legislative-committee-10-05-2017-705
END:VEVENT

END:VCALENDAR
