BEGIN:VCALENDAR
VERSION:2.0
PRODID:-//ChamberMaster//Event Calendar 2.0//EN
METHOD:PUBLISH
X-PUBLISHED-TTL:P3D
REFRESH-INTERVAL:P3D
CALSCALE:GREGORIAN
BEGIN:VEVENT
DTSTART:20221017T220000Z
DTEND:20221018T000000Z
X-MICROSOFT-CDO-ALLDAYEVENT:FALSE
SUMMARY:iDecide Candidate Forum 2022
DESCRIPTION:Our iDecide Candidate Forum is a "get to know your candidate" forum that will be held at Vanguard-Sentinel Career and Technology Center on October 17\, 2022.  Questions from the community will be taken prior to the forum.  Each candidate on the November ballot will get a chance to respond.  This is a free event for the community and will be steamed live on the Chamber's Facebook page. \n\n\n\nCandidates who will be attending the iDecide Forum will be announced soon!
X-ALT-DESC;FMTTYPE=text/html:Our iDecide Candidate Forum is a &quot\;get to know your candidate&quot\; forum that will be held at Vanguard-Sentinel Career and Technology Center on October 17\, 2022.&nbsp\; Questions from the community will be taken prior to the forum.&nbsp\; Each candidate on the November ballot will get a chance to respond.&nbsp\; This is a free event for the community and will be steamed live on the Chamber&#39\;s Facebook page.&nbsp\;<br />\n<br />\nCandidates who will be attending the iDecide Forum will be announced soon!
LOCATION:Vanguard-Sentinel Career and Technology Center 1306 Cedar St. Fremont\, OH 43420
UID:e.2014.3338
SEQUENCE:3
DTSTAMP:20260420T085844Z
URL:https://www.scchamber.org/events/details/idecide-candidate-forum-2022-3338
END:VEVENT

END:VCALENDAR
