BEGIN:VCALENDAR
VERSION:2.0
PRODID:-//ChamberMaster//Event Calendar 2.0//EN
METHOD:PUBLISH
X-PUBLISHED-TTL:P3D
REFRESH-INTERVAL:P3D
CALSCALE:GREGORIAN
BEGIN:VEVENT
DTSTART:20181212T220000Z
DTEND:20181213T000000Z
X-MICROSOFT-CDO-ALLDAYEVENT:FALSE
SUMMARY:Holiday Reception 2018
DESCRIPTION:Join us for Appetizers\, Wine\, Live Music & Holiday Fun at our Annual Holiday Reception\, hosted by the Chamber of Commerce & Leadership Sandusky County.
X-ALT-DESC;FMTTYPE=text/html:Join us for Appetizers\, Wine\, Live Music &amp\; Holiday Fun at our Annual Holiday Reception\, hosted by the Chamber of Commerce &amp\; Leadership Sandusky County.<br />\n&nbsp\;
LOCATION:Rutherford B. Hayes Presidential Library & Museums Spiegel Grove
UID:e.2014.792
SEQUENCE:3
DTSTAMP:20260423T150401Z
URL:https://www.scchamber.org/events/details/holiday-reception-2018-792
END:VEVENT

END:VCALENDAR
