BEGIN:VCALENDAR
VERSION:2.0
PRODID:-//ChamberMaster//Event Calendar 2.0//EN
METHOD:PUBLISH
X-PUBLISHED-TTL:P3D
REFRESH-INTERVAL:P3D
CALSCALE:GREGORIAN
BEGIN:VEVENT
DTSTART:20190818T223000Z
DTEND:20190819T000000Z
X-MICROSOFT-CDO-ALLDAYEVENT:FALSE
SUMMARY:Gibsonburg Fitness
DESCRIPTION:Fall session in Gibsonburg consists of 30 minutes cardio\, 25 minutes of strength training\, and 30 minutes of a form of meditation and/or stretching. Classes meet Monday\, Wednesday and Thursday. Come to one or come to all!\n\nClass schedule and descriptions can be found at www.angieschroeder.com
X-ALT-DESC;FMTTYPE=text/html:Fall session in Gibsonburg consists of 30 minutes cardio\, 25 minutes of strength training\, and 30 minutes of a form of meditation and/or stretching. Classes meet Monday\, Wednesday and Thursday. Come to one or come to all!<br />\nClass schedule and descriptions can be found at www.angieschroeder.com&nbsp\;
LOCATION:Multi-Purpose room at Gibsonburg Elementary School
UID:e.2014.1863
SEQUENCE:3
DTSTAMP:20260421T010207Z
URL:https://www.scchamber.org/events/details/gibsonburg-fitness-1863
END:VEVENT

END:VCALENDAR
