BEGIN:VCALENDAR
VERSION:2.0
PRODID:-//ChamberMaster//Event Calendar 2.0//EN
METHOD:PUBLISH
X-PUBLISHED-TTL:P3D
REFRESH-INTERVAL:P3D
CALSCALE:GREGORIAN
BEGIN:VEVENT
DTSTART:20180323T130000Z
DTEND:20180323T160000Z
X-MICROSOFT-CDO-ALLDAYEVENT:FALSE
SUMMARY:Everyone's an Asset Builder Training
DESCRIPTION:Speaker: James Conway\, Search Institute\n\n\n\nSandusky County Health Department and Prevention Partnership are offering a free half-day evidenced-based training for those working with youth to identify strengths and supports that are essential for young people's success in school\, work\, and life.
X-ALT-DESC;FMTTYPE=text/html:Speaker: James Conway\, Search Institute<br />\n<br />\nSandusky County Health Department and Prevention Partnership are offering a free half-day evidenced-based training for those working with youth to identify strengths and supports that are essential for young people&#39\;s success in school\, work\, and life.&nbsp\;
LOCATION:Sandusky County DJFS 2511 Countryside Dr. Fremont\, OH 43420
UID:e.2014.915
SEQUENCE:3
DTSTAMP:20260424T042712Z
URL:https://www.scchamber.org/events/details/everyone-s-an-asset-builder-training-915
END:VEVENT

END:VCALENDAR
