BEGIN:VCALENDAR
VERSION:2.0
PRODID:-//ChamberMaster//Event Calendar 2.0//EN
METHOD:PUBLISH
X-PUBLISHED-TTL:P3D
REFRESH-INTERVAL:P3D
CALSCALE:GREGORIAN
BEGIN:VEVENT
DTSTART:20181108T220000Z
DTEND:20181109T000000Z
X-MICROSOFT-CDO-ALLDAYEVENT:FALSE
SUMMARY:Business After Hours November 2018-Chateau Tebeau
DESCRIPTION:
X-ALT-DESC;FMTTYPE=text/html:
LOCATION:Chateau Tebeau 525 SR 635 Helena\, OH 43435
UID:e.2014.791
SEQUENCE:3
DTSTAMP:20260423T163710Z
URL:https://www.scchamber.org/events/details/business-after-hours-november-2018-chateau-tebeau-791
END:VEVENT

END:VCALENDAR
