BEGIN:VCALENDAR
VERSION:2.0
PRODID:-//ChamberMaster//Event Calendar 2.0//EN
METHOD:PUBLISH
X-PUBLISHED-TTL:P3D
REFRESH-INTERVAL:P3D
CALSCALE:GREGORIAN
BEGIN:VEVENT
DTSTART:20171109T220000Z
DTEND:20171110T000000Z
X-MICROSOFT-CDO-ALLDAYEVENT:FALSE
SUMMARY:Business After Hours November 2017-Live Edge Center
DESCRIPTION:Networking event that allows Chamber members to meet\, exchange ideas and develop new relationships in an informal\, relaxed and enjoyable setting.\n\n\nCome and go as your schedule allows\, and feel free to share with your employees! The more the merrier\, IF you are 21 years of age or older.\n\n\n\n*At every Business After Hours\, a $100 jackpot will be given away to a Chamber Member business representative. If no one is present from the business\, the jackpot will rollover to the next BAH. Drawing will be random\, must be present to win. Jackpot will only take place at BAH's held in Sandusky County.
X-ALT-DESC;FMTTYPE=text/html:<h2 style="text-align:center\;"><span style="font-family: verdana\; font-size: 13px\; line-height: 1.6\;">Networking event that allows Chamber members to meet\, exchange ideas and develop new relationships in an informal\, relaxed and enjoyable setting.</span></h2>\n<br />\n<span style="font-family:verdana\;">Come and go as your schedule allows\, and feel free to share with your employees! The more the merrier\, IF you are 21 years of age or older.<br />\n<br />\n<span style="font-size:11px\;">*At every Business After Hours\, a $100 jackpot will be given away to a Chamber Member business representative. If no one is present from the business\, the jackpot will rollover to the next BAH. Drawing will be random\, must be present to win. Jackpot will only take place at BAH&rsquo\;s held in Sandusky County.</span></span><br />\n&nbsp\;<br />\n&nbsp\;
LOCATION:Live Edge Center 115 S. Front St.\, Fremont
UID:e.2014.615
SEQUENCE:3
DTSTAMP:20260424T101357Z
URL:https://www.scchamber.org/events/details/business-after-hours-november-2017-live-edge-center-615
END:VEVENT

END:VCALENDAR
