BEGIN:VCALENDAR
VERSION:2.0
PRODID:-//ChamberMaster//Event Calendar 2.0//EN
METHOD:PUBLISH
X-PUBLISHED-TTL:P3D
REFRESH-INTERVAL:P3D
CALSCALE:GREGORIAN
BEGIN:VEVENT
DTSTART:20230608T210000Z
DTEND:20230608T230000Z
X-MICROSOFT-CDO-ALLDAYEVENT:FALSE
SUMMARY:Business After Hours - June 2023
DESCRIPTION:Join us for our next Business After Hours at Van Ness's Time Out Sports Bar\, sponsored by Crown Battery!  The Chamber's Business After Hours feature free food\, drinks\, and laid-back networking for Chamber members and guests. This event is open to all employees of Chamber members and prospective Chamber members. Each month\, a different business will be able to host a Business After Hours event at their company.
X-ALT-DESC;FMTTYPE=text/html:<br />\nJoin us for our next Business After Hours at Van Ness&#39\;s Time Out Sports Bar\, sponsored by Crown Battery!&nbsp\; The Chamber&#39\;s Business After Hours feature free food\, drinks\, and laid-back networking for Chamber members and guests. This event is open to all employees of Chamber members and prospective Chamber members. Each month\, a different business will be able to host a Business After Hours event at their company.
LOCATION:Van Ness's Time Out Sports Bar 2004 Lake St. Fremont\, OH 43420
UID:e.2014.3746
SEQUENCE:3
DTSTAMP:20260422T074611Z
URL:https://www.scchamber.org/events/details/business-after-hours-june-2023-3746
END:VEVENT

END:VCALENDAR
