BEGIN:VCALENDAR
VERSION:2.0
PRODID:-//ChamberMaster//Event Calendar 2.0//EN
METHOD:PUBLISH
X-PUBLISHED-TTL:P3D
REFRESH-INTERVAL:P3D
CALSCALE:GREGORIAN
BEGIN:VEVENT
DTSTART:20180314T160000Z
DTEND:20180314T170000Z
X-MICROSOFT-CDO-ALLDAYEVENT:FALSE
SUMMARY:Brand Your Business Luncheon
DESCRIPTION:Learn how to make your business stand out across all forms of media with Branding Specialist\, Joshua Randell\, of Liamer Media. This event is for business owners and marketing professionals looking to gain a better understanding of your brand and how to build your brand through different advertising channels. \n\n\n\nSponsored by the Chamber of Commerce of Sandusky County and BAS Broadcasting. \n\n\n\nRegister by calling 419-332-1591 or visit www.basohio.com/register.
X-ALT-DESC;FMTTYPE=text/html:Learn how to make your business stand out across all forms of media with Branding Specialist\, Joshua Randell\, of Liamer Media. This event is for business owners and marketing professionals looking to gain a better understanding of your brand and how to build your brand through different advertising channels.&nbsp\;<br />\n<br />\nSponsored by the Chamber of Commerce of Sandusky County and BAS Broadcasting.&nbsp\;<br />\n<br />\nRegister by calling 419-332-1591 or visit www.basohio.com/register.&nbsp\;
LOCATION:The Neeley Center at Terra State Community College 2830 Napoleon Rd. Fremont\, OH 43420
UID:e.2014.918
SEQUENCE:3
DTSTAMP:20260424T043748Z
URL:https://www.scchamber.org/events/details/brand-your-business-luncheon-918
END:VEVENT

END:VCALENDAR
