BEGIN:VCALENDAR
VERSION:2.0
PRODID:-//ChamberMaster//Event Calendar 2.0//EN
METHOD:PUBLISH
X-PUBLISHED-TTL:P3D
REFRESH-INTERVAL:P3D
CALSCALE:GREGORIAN
BEGIN:VEVENT
DTSTART:20140516T213000Z
DTEND:20140517T020000Z
X-MICROSOFT-CDO-ALLDAYEVENT:FALSE
SUMMARY:BAH 2014 May
DESCRIPTION:Toledo Mudhens vs. Syracuse Chiefs
X-ALT-DESC;FMTTYPE=text/html:Toledo Mudhens vs. Syracuse Chiefs
LOCATION:Fifth Third Field 406 Washington St Toledo\, OH 43604
UID:e.2014.201
SEQUENCE:3
DTSTAMP:20260421T233705Z
URL:https://www.scchamber.org/events/details/bah-2014-may-05-16-2014-201
END:VEVENT

END:VCALENDAR
