BEGIN:VCALENDAR
VERSION:2.0
PRODID:-//ChamberMaster//Event Calendar 2.0//EN
METHOD:PUBLISH
X-PUBLISHED-TTL:P3D
REFRESH-INTERVAL:P3D
CALSCALE:GREGORIAN
BEGIN:VEVENT
DTSTART:20180125T230000Z
DTEND:20180126T010000Z
X-MICROSOFT-CDO-ALLDAYEVENT:FALSE
SUMMARY:Annual Dinner 2018
DESCRIPTION:This prestigious event of the year gathers Chamber of Commerce members and area professionals for an evening of networking and awarding businesses and individuals for their commitment to our community. \n\n\n\nThe following awards were presented in 2018:\n\nChamber Member of the Year-Small Business\n\nPolter Real Estate\n\n\n\nChamber Member of the Year-Medium Business\n\nZimmerman Building Company\n\n\n\nChamber Member of the Year-Large Business\n\nValley View Health Campus\n\n\n\nCitizen of the Year\n\nTom Bowlus\n\n\n\nDistinguished Service\n\nJanelle Ray\n\n\n\nClark Ambassador\n\nJackie Price\n\n\n\nAward of Excellence\n\nTim Myers\n\n\n\nPast Individual Award Recipients\n\nPast Members of the Year & Health and Wellness Award Recipients
X-ALT-DESC;FMTTYPE=text/html:This prestigious event of the year gathers Chamber of Commerce members and area professionals for an evening of networking and awarding businesses and individuals for their commitment to our community.&nbsp\;<br />\n<br />\n<u><strong>The following awards were presented in 2018:</strong></u><br />\nChamber Member of the Year-Small Business<br />\n<strong>Polter Real Estate</strong><br />\n<br />\nChamber Member of the Year-Medium Business<br />\n<strong>Zimmerman Building Company</strong><br />\n<br />\nChamber Member of the Year-Large&nbsp\;Business<br />\n<strong>Valley View Health Campus</strong><br />\n<br />\nCitizen of the Year<br />\n<strong>Tom Bowlus</strong><br />\n<br />\nDistinguished Service<br />\n<strong>Janelle Ray</strong><br />\n<br />\nClark Ambassador<br />\n<strong>Jackie Price</strong><br />\n<br />\nAward of Excellence<br />\n<strong>Tim Myers</strong><br />\n<br />\n<a href="https://chambermaster.blob.core.windows.net/userfiles/UserFiles/chambers/2014/File/updatedPastAwardWinners2018.pdf" target="_blank">Past Individual Award Recipients</a><br />\n<a href="https://chambermaster.blob.core.windows.net/userfiles/UserFiles/chambers/2014/File/UpdatedPastMembersoftheYearandHealthandWellnessWinners2018.pdf" target="_blank">Past Members of the Year &amp\; Health and Wellness Award Recipients</a><br />\n&nbsp\;
LOCATION:The Neeley Conference & Hospitality Center 2830 Napoleon Rd. Fremont\, OH 43420
UID:e.2014.779
SEQUENCE:3
DTSTAMP:20260424T071520Z
URL:https://www.scchamber.org/events/details/annual-dinner-2018-779
END:VEVENT

END:VCALENDAR
