BEGIN:VCALENDAR
VERSION:2.0
PRODID:-//ChamberMaster//Event Calendar 2.0//EN
METHOD:PUBLISH
X-PUBLISHED-TTL:P3D
REFRESH-INTERVAL:P3D
CALSCALE:GREGORIAN
BEGIN:VEVENT
DTSTART:20150825T120000Z
DTEND:20150825T130000Z
X-MICROSOFT-CDO-ALLDAYEVENT:FALSE
SUMMARY:Ambassadors
DESCRIPTION:Chamber Ambassadors Meeting\n\n\n\nfollowing fair opening
X-ALT-DESC;FMTTYPE=text/html:<span style="font-family:verdana\;">Chamber Ambassadors Meeting<br />\n<br />\nfollowing fair opening</span>
LOCATION:Chamber Ag Tent Sandusky County Fairgrounds Fremont\, OH 43420
UID:e.2014.339
SEQUENCE:3
DTSTAMP:20260426T013419Z
URL:https://www.scchamber.org/events/details/ambassadors-08-25-2015-339
END:VEVENT

END:VCALENDAR
