BEGIN:VCALENDAR
VERSION:2.0
PRODID:-//ChamberMaster//Event Calendar 2.0//EN
METHOD:PUBLISH
X-PUBLISHED-TTL:P3D
REFRESH-INTERVAL:P3D
CALSCALE:GREGORIAN
BEGIN:VEVENT
DTSTART:20140314T110000Z
DTEND:20140314T120000Z
X-MICROSOFT-CDO-ALLDAYEVENT:FALSE
SUMMARY:Ag Breakfast 2014
DESCRIPTION:Kickoff to Ag Week
X-ALT-DESC;FMTTYPE=text/html:Kickoff to Ag Week
LOCATION:Ole Zim's Wagon Shed
UID:e.2014.193
SEQUENCE:3
DTSTAMP:20260422T070507Z
URL:https://www.scchamber.org/events/details/ag-breakfast-2014-03-14-2014-193
END:VEVENT

END:VCALENDAR
